BEGIN:VCALENDAR
VERSION:2.0
PRODID:-//ZContent.net//ZapCalLib 1.0//EN
CALSCALE:GREGORIAN
METHOD:PUBLISH
BEGIN:VTIMEZONE
TZID:Europe/Berlin
BEGIN:DAYLIGHT
DTSTART:20210328T030000
TZOFFSETFROM:+0100
TZOFFSETTO:+0200
TZNAME:CEST
END:DAYLIGHT
BEGIN:STANDARD
DTSTART:20211031T020000
TZOFFSETFROM:+0200
TZOFFSETTO:+0100
TZNAME:CET
END:STANDARD
BEGIN:DAYLIGHT
DTSTART:20220327T030000
TZOFFSETFROM:+0100
TZOFFSETTO:+0200
TZNAME:CEST
END:DAYLIGHT
BEGIN:STANDARD
DTSTART:20221030T020000
TZOFFSETFROM:+0200
TZOFFSETTO:+0100
TZNAME:CET
END:STANDARD
BEGIN:DAYLIGHT
DTSTART:20230326T030000
TZOFFSETFROM:+0100
TZOFFSETTO:+0200
TZNAME:CEST
END:DAYLIGHT
BEGIN:STANDARD
DTSTART:20231029T020000
TZOFFSETFROM:+0200
TZOFFSETTO:+0100
TZNAME:CET
END:STANDARD
END:VTIMEZONE
BEGIN:VTIMEZONE
TZID:Europe/Berlin
BEGIN:DAYLIGHT
DTSTART:20210328T030000
TZOFFSETFROM:+0100
TZOFFSETTO:+0200
TZNAME:CEST
END:DAYLIGHT
BEGIN:STANDARD
DTSTART:20211031T020000
TZOFFSETFROM:+0200
TZOFFSETTO:+0100
TZNAME:CET
END:STANDARD
BEGIN:DAYLIGHT
DTSTART:20220327T030000
TZOFFSETFROM:+0100
TZOFFSETTO:+0200
TZNAME:CEST
END:DAYLIGHT
BEGIN:STANDARD
DTSTART:20221030T020000
TZOFFSETFROM:+0200
TZOFFSETTO:+0100
TZNAME:CET
END:STANDARD
BEGIN:DAYLIGHT
DTSTART:20230326T030000
TZOFFSETFROM:+0100
TZOFFSETTO:+0200
TZNAME:CEST
END:DAYLIGHT
BEGIN:STANDARD
DTSTART:20231029T020000
TZOFFSETFROM:+0200
TZOFFSETTO:+0100
TZNAME:CET
END:STANDARD
END:VTIMEZONE
BEGIN:VTIMEZONE
TZID:Europe/Berlin
BEGIN:DAYLIGHT
DTSTART:20210328T030000
TZOFFSETFROM:+0100
TZOFFSETTO:+0200
TZNAME:CEST
END:DAYLIGHT
BEGIN:STANDARD
DTSTART:20211031T020000
TZOFFSETFROM:+0200
TZOFFSETTO:+0100
TZNAME:CET
END:STANDARD
BEGIN:DAYLIGHT
DTSTART:20220327T030000
TZOFFSETFROM:+0100
TZOFFSETTO:+0200
TZNAME:CEST
END:DAYLIGHT
BEGIN:STANDARD
DTSTART:20221030T020000
TZOFFSETFROM:+0200
TZOFFSETTO:+0100
TZNAME:CET
END:STANDARD
BEGIN:DAYLIGHT
DTSTART:20230326T030000
TZOFFSETFROM:+0100
TZOFFSETTO:+0200
TZNAME:CEST
END:DAYLIGHT
BEGIN:STANDARD
DTSTART:20231029T020000
TZOFFSETFROM:+0200
TZOFFSETTO:+0100
TZNAME:CET
END:STANDARD
END:VTIMEZONE
BEGIN:VTIMEZONE
TZID:Europe/Berlin
BEGIN:DAYLIGHT
DTSTART:20210328T030000
TZOFFSETFROM:+0100
TZOFFSETTO:+0200
TZNAME:CEST
END:DAYLIGHT
BEGIN:STANDARD
DTSTART:20211031T020000
TZOFFSETFROM:+0200
TZOFFSETTO:+0100
TZNAME:CET
END:STANDARD
BEGIN:DAYLIGHT
DTSTART:20220327T030000
TZOFFSETFROM:+0100
TZOFFSETTO:+0200
TZNAME:CEST
END:DAYLIGHT
BEGIN:STANDARD
DTSTART:20221030T020000
TZOFFSETFROM:+0200
TZOFFSETTO:+0100
TZNAME:CET
END:STANDARD
BEGIN:DAYLIGHT
DTSTART:20230326T030000
TZOFFSETFROM:+0100
TZOFFSETTO:+0200
TZNAME:CEST
END:DAYLIGHT
BEGIN:STANDARD
DTSTART:20231029T020000
TZOFFSETFROM:+0200
TZOFFSETTO:+0100
TZNAME:CET
END:STANDARD
END:VTIMEZONE
BEGIN:VTIMEZONE
TZID:Europe/Berlin
BEGIN:DAYLIGHT
DTSTART:20210328T030000
TZOFFSETFROM:+0100
TZOFFSETTO:+0200
TZNAME:CEST
END:DAYLIGHT
BEGIN:STANDARD
DTSTART:20211031T020000
TZOFFSETFROM:+0200
TZOFFSETTO:+0100
TZNAME:CET
END:STANDARD
BEGIN:DAYLIGHT
DTSTART:20220327T030000
TZOFFSETFROM:+0100
TZOFFSETTO:+0200
TZNAME:CEST
END:DAYLIGHT
BEGIN:STANDARD
DTSTART:20221030T020000
TZOFFSETFROM:+0200
TZOFFSETTO:+0100
TZNAME:CET
END:STANDARD
BEGIN:DAYLIGHT
DTSTART:20230326T030000
TZOFFSETFROM:+0100
TZOFFSETTO:+0200
TZNAME:CEST
END:DAYLIGHT
BEGIN:STANDARD
DTSTART:20231029T020000
TZOFFSETFROM:+0200
TZOFFSETTO:+0100
TZNAME:CET
END:STANDARD
END:VTIMEZONE
BEGIN:VTIMEZONE
TZID:Europe/Berlin
BEGIN:DAYLIGHT
DTSTART:20210328T030000
TZOFFSETFROM:+0100
TZOFFSETTO:+0200
TZNAME:CEST
END:DAYLIGHT
BEGIN:STANDARD
DTSTART:20211031T020000
TZOFFSETFROM:+0200
TZOFFSETTO:+0100
TZNAME:CET
END:STANDARD
BEGIN:DAYLIGHT
DTSTART:20220327T030000
TZOFFSETFROM:+0100
TZOFFSETTO:+0200
TZNAME:CEST
END:DAYLIGHT
BEGIN:STANDARD
DTSTART:20221030T020000
TZOFFSETFROM:+0200
TZOFFSETTO:+0100
TZNAME:CET
END:STANDARD
BEGIN:DAYLIGHT
DTSTART:20230326T030000
TZOFFSETFROM:+0100
TZOFFSETTO:+0200
TZNAME:CEST
END:DAYLIGHT
BEGIN:STANDARD
DTSTART:20231029T020000
TZOFFSETFROM:+0200
TZOFFSETTO:+0100
TZNAME:CET
END:STANDARD
END:VTIMEZONE
BEGIN:VTIMEZONE
TZID:Europe/Berlin
BEGIN:DAYLIGHT
DTSTART:20210328T030000
TZOFFSETFROM:+0100
TZOFFSETTO:+0200
TZNAME:CEST
END:DAYLIGHT
BEGIN:STANDARD
DTSTART:20211031T020000
TZOFFSETFROM:+0200
TZOFFSETTO:+0100
TZNAME:CET
END:STANDARD
BEGIN:DAYLIGHT
DTSTART:20220327T030000
TZOFFSETFROM:+0100
TZOFFSETTO:+0200
TZNAME:CEST
END:DAYLIGHT
BEGIN:STANDARD
DTSTART:20221030T020000
TZOFFSETFROM:+0200
TZOFFSETTO:+0100
TZNAME:CET
END:STANDARD
BEGIN:DAYLIGHT
DTSTART:20230326T030000
TZOFFSETFROM:+0100
TZOFFSETTO:+0200
TZNAME:CEST
END:DAYLIGHT
BEGIN:STANDARD
DTSTART:20231029T020000
TZOFFSETFROM:+0200
TZOFFSETTO:+0100
TZNAME:CET
END:STANDARD
END:VTIMEZONE
BEGIN:VTIMEZONE
TZID:Europe/Berlin
BEGIN:DAYLIGHT
DTSTART:20210328T030000
TZOFFSETFROM:+0100
TZOFFSETTO:+0200
TZNAME:CEST
END:DAYLIGHT
BEGIN:STANDARD
DTSTART:20211031T020000
TZOFFSETFROM:+0200
TZOFFSETTO:+0100
TZNAME:CET
END:STANDARD
BEGIN:DAYLIGHT
DTSTART:20220327T030000
TZOFFSETFROM:+0100
TZOFFSETTO:+0200
TZNAME:CEST
END:DAYLIGHT
BEGIN:STANDARD
DTSTART:20221030T020000
TZOFFSETFROM:+0200
TZOFFSETTO:+0100
TZNAME:CET
END:STANDARD
BEGIN:DAYLIGHT
DTSTART:20230326T030000
TZOFFSETFROM:+0100
TZOFFSETTO:+0200
TZNAME:CEST
END:DAYLIGHT
BEGIN:STANDARD
DTSTART:20231029T020000
TZOFFSETFROM:+0200
TZOFFSETTO:+0100
TZNAME:CET
END:STANDARD
END:VTIMEZONE
BEGIN:VEVENT
SUMMARY:Willkommen in der Welt der Farben!
Description:Ein Eltern- oder Großeltern-Kind-Workshop: Ziel des Kurses ist
 \, spielerisch in die Welt der Farben und des kreativen Selbstausdrucks ei
 nzutauchen. Dabei beschränken wir uns auf die drei Grundfarben Rot\, Gelb
  und Blau sowie Schwarz und Weiß. Gemischt wird mit einem dicken Pinsel a
 uf großformatigem Malpapier. Dann passieren auch schon die „kleinen Wun
 der“: Kräftiges Gelb leuchtet neben schimmernden Blau auf und vermischt
  sich zu vielfältigen\, sanft ineinander übergehenden Grünabstufungen. 
 Rot gleitet ins Gelb hinüber und wandelt sich zu tiefem Orange ... So ler
 nen wir überraschend schnell\, mit Pinsel und Farbe frei umzugehen\, Unte
 rschiede in Farbmischungen und Farbauftrag zu erkennen und uns im Reich de
 r Farben spontan und frei auszudrücken.\nBitte beachten Sie\, dass Sie so
 wohl sich selbst als auch Ihr Kind anmelden müssen.
LOCATION:JuKS Zentrale\, Kreativ-Atelier\, Friedrichstraße 33
DTSTART:20221005T150000
DTEND:20221005T163000
DTSTAMP:20260424T153456
END:VEVENT
BEGIN:VEVENT
SUMMARY:Willkommen in der Welt der Farben!
Description:Ein Eltern- oder Großeltern-Kind-Workshop: Ziel des Kurses ist
 \, spielerisch in die Welt der Farben und des kreativen Selbstausdrucks ei
 nzutauchen. Dabei beschränken wir uns auf die drei Grundfarben Rot\, Gelb
  und Blau sowie Schwarz und Weiß. Gemischt wird mit einem dicken Pinsel a
 uf großformatigem Malpapier. Dann passieren auch schon die „kleinen Wun
 der“: Kräftiges Gelb leuchtet neben schimmernden Blau auf und vermischt
  sich zu vielfältigen\, sanft ineinander übergehenden Grünabstufungen. 
 Rot gleitet ins Gelb hinüber und wandelt sich zu tiefem Orange ... So ler
 nen wir überraschend schnell\, mit Pinsel und Farbe frei umzugehen\, Unte
 rschiede in Farbmischungen und Farbauftrag zu erkennen und uns im Reich de
 r Farben spontan und frei auszudrücken.\nBitte beachten Sie\, dass Sie so
 wohl sich selbst als auch Ihr Kind anmelden müssen.
LOCATION:JuKS Zentrale\, Kreativ-Atelier\, Friedrichstraße 33
DTSTART:20221012T150000
DTEND:20221012T163000
DTSTAMP:20260424T153456
END:VEVENT
BEGIN:VEVENT
SUMMARY:Willkommen in der Welt der Farben!
Description:Ein Eltern- oder Großeltern-Kind-Workshop: Ziel des Kurses ist
 \, spielerisch in die Welt der Farben und des kreativen Selbstausdrucks ei
 nzutauchen. Dabei beschränken wir uns auf die drei Grundfarben Rot\, Gelb
  und Blau sowie Schwarz und Weiß. Gemischt wird mit einem dicken Pinsel a
 uf großformatigem Malpapier. Dann passieren auch schon die „kleinen Wun
 der“: Kräftiges Gelb leuchtet neben schimmernden Blau auf und vermischt
  sich zu vielfältigen\, sanft ineinander übergehenden Grünabstufungen. 
 Rot gleitet ins Gelb hinüber und wandelt sich zu tiefem Orange ... So ler
 nen wir überraschend schnell\, mit Pinsel und Farbe frei umzugehen\, Unte
 rschiede in Farbmischungen und Farbauftrag zu erkennen und uns im Reich de
 r Farben spontan und frei auszudrücken.\nBitte beachten Sie\, dass Sie so
 wohl sich selbst als auch Ihr Kind anmelden müssen.
LOCATION:JuKS Zentrale\, Kreativ-Atelier\, Friedrichstraße 33
DTSTART:20221019T150000
DTEND:20221019T163000
DTSTAMP:20260424T153456
END:VEVENT
BEGIN:VEVENT
SUMMARY:Willkommen in der Welt der Farben!
Description:Ein Eltern- oder Großeltern-Kind-Workshop: Ziel des Kurses ist
 \, spielerisch in die Welt der Farben und des kreativen Selbstausdrucks ei
 nzutauchen. Dabei beschränken wir uns auf die drei Grundfarben Rot\, Gelb
  und Blau sowie Schwarz und Weiß. Gemischt wird mit einem dicken Pinsel a
 uf großformatigem Malpapier. Dann passieren auch schon die „kleinen Wun
 der“: Kräftiges Gelb leuchtet neben schimmernden Blau auf und vermischt
  sich zu vielfältigen\, sanft ineinander übergehenden Grünabstufungen. 
 Rot gleitet ins Gelb hinüber und wandelt sich zu tiefem Orange ... So ler
 nen wir überraschend schnell\, mit Pinsel und Farbe frei umzugehen\, Unte
 rschiede in Farbmischungen und Farbauftrag zu erkennen und uns im Reich de
 r Farben spontan und frei auszudrücken.\nBitte beachten Sie\, dass Sie so
 wohl sich selbst als auch Ihr Kind anmelden müssen.
LOCATION:JuKS Zentrale\, Kreativ-Atelier\, Friedrichstraße 33
DTSTART:20221026T150000
DTEND:20221026T163000
DTSTAMP:20260424T153456
END:VEVENT
BEGIN:VEVENT
SUMMARY:Willkommen in der Welt der Farben!
Description:Ein Eltern- oder Großeltern-Kind-Workshop: Ziel des Kurses ist
 \, spielerisch in die Welt der Farben und des kreativen Selbstausdrucks ei
 nzutauchen. Dabei beschränken wir uns auf die drei Grundfarben Rot\, Gelb
  und Blau sowie Schwarz und Weiß. Gemischt wird mit einem dicken Pinsel a
 uf großformatigem Malpapier. Dann passieren auch schon die „kleinen Wun
 der“: Kräftiges Gelb leuchtet neben schimmernden Blau auf und vermischt
  sich zu vielfältigen\, sanft ineinander übergehenden Grünabstufungen. 
 Rot gleitet ins Gelb hinüber und wandelt sich zu tiefem Orange ... So ler
 nen wir überraschend schnell\, mit Pinsel und Farbe frei umzugehen\, Unte
 rschiede in Farbmischungen und Farbauftrag zu erkennen und uns im Reich de
 r Farben spontan und frei auszudrücken.\nBitte beachten Sie\, dass Sie so
 wohl sich selbst als auch Ihr Kind anmelden müssen.
LOCATION:JuKS Zentrale\, Kreativ-Atelier\, Friedrichstraße 33
DTSTART:20221109T150000
DTEND:20221109T163000
DTSTAMP:20260424T153456
END:VEVENT
BEGIN:VEVENT
SUMMARY:Willkommen in der Welt der Farben!
Description:Ein Eltern- oder Großeltern-Kind-Workshop: Ziel des Kurses ist
 \, spielerisch in die Welt der Farben und des kreativen Selbstausdrucks ei
 nzutauchen. Dabei beschränken wir uns auf die drei Grundfarben Rot\, Gelb
  und Blau sowie Schwarz und Weiß. Gemischt wird mit einem dicken Pinsel a
 uf großformatigem Malpapier. Dann passieren auch schon die „kleinen Wun
 der“: Kräftiges Gelb leuchtet neben schimmernden Blau auf und vermischt
  sich zu vielfältigen\, sanft ineinander übergehenden Grünabstufungen. 
 Rot gleitet ins Gelb hinüber und wandelt sich zu tiefem Orange ... So ler
 nen wir überraschend schnell\, mit Pinsel und Farbe frei umzugehen\, Unte
 rschiede in Farbmischungen und Farbauftrag zu erkennen und uns im Reich de
 r Farben spontan und frei auszudrücken.\nBitte beachten Sie\, dass Sie so
 wohl sich selbst als auch Ihr Kind anmelden müssen.
LOCATION:JuKS Zentrale\, Kreativ-Atelier\, Friedrichstraße 33
DTSTART:20221116T150000
DTEND:20221116T163000
DTSTAMP:20260424T153456
END:VEVENT
BEGIN:VEVENT
SUMMARY:Willkommen in der Welt der Farben!
Description:Ein Eltern- oder Großeltern-Kind-Workshop: Ziel des Kurses ist
 \, spielerisch in die Welt der Farben und des kreativen Selbstausdrucks ei
 nzutauchen. Dabei beschränken wir uns auf die drei Grundfarben Rot\, Gelb
  und Blau sowie Schwarz und Weiß. Gemischt wird mit einem dicken Pinsel a
 uf großformatigem Malpapier. Dann passieren auch schon die „kleinen Wun
 der“: Kräftiges Gelb leuchtet neben schimmernden Blau auf und vermischt
  sich zu vielfältigen\, sanft ineinander übergehenden Grünabstufungen. 
 Rot gleitet ins Gelb hinüber und wandelt sich zu tiefem Orange ... So ler
 nen wir überraschend schnell\, mit Pinsel und Farbe frei umzugehen\, Unte
 rschiede in Farbmischungen und Farbauftrag zu erkennen und uns im Reich de
 r Farben spontan und frei auszudrücken.\nBitte beachten Sie\, dass Sie so
 wohl sich selbst als auch Ihr Kind anmelden müssen.
LOCATION:JuKS Zentrale\, Kreativ-Atelier\, Friedrichstraße 33
DTSTART:20221123T150000
DTEND:20221123T163000
DTSTAMP:20260424T153456
END:VEVENT
BEGIN:VEVENT
SUMMARY:Willkommen in der Welt der Farben!
Description:Ein Eltern- oder Großeltern-Kind-Workshop: Ziel des Kurses ist
 \, spielerisch in die Welt der Farben und des kreativen Selbstausdrucks ei
 nzutauchen. Dabei beschränken wir uns auf die drei Grundfarben Rot\, Gelb
  und Blau sowie Schwarz und Weiß. Gemischt wird mit einem dicken Pinsel a
 uf großformatigem Malpapier. Dann passieren auch schon die „kleinen Wun
 der“: Kräftiges Gelb leuchtet neben schimmernden Blau auf und vermischt
  sich zu vielfältigen\, sanft ineinander übergehenden Grünabstufungen. 
 Rot gleitet ins Gelb hinüber und wandelt sich zu tiefem Orange ... So ler
 nen wir überraschend schnell\, mit Pinsel und Farbe frei umzugehen\, Unte
 rschiede in Farbmischungen und Farbauftrag zu erkennen und uns im Reich de
 r Farben spontan und frei auszudrücken.\nBitte beachten Sie\, dass Sie so
 wohl sich selbst als auch Ihr Kind anmelden müssen.
LOCATION:JuKS Zentrale\, Kreativ-Atelier\, Friedrichstraße 33
DTSTART:20221130T150000
DTEND:20221130T163000
DTSTAMP:20260424T153456
END:VEVENT
END:VCALENDAR
 

