BEGIN:VCALENDAR
VERSION:2.0
PRODID:-//ZContent.net//ZapCalLib 1.0//EN
CALSCALE:GREGORIAN
METHOD:PUBLISH
BEGIN:VTIMEZONE
TZID:Europe/Berlin
BEGIN:DAYLIGHT
DTSTART:20220327T030000
TZOFFSETFROM:+0100
TZOFFSETTO:+0200
TZNAME:CEST
END:DAYLIGHT
BEGIN:STANDARD
DTSTART:20221030T020000
TZOFFSETFROM:+0200
TZOFFSETTO:+0100
TZNAME:CET
END:STANDARD
BEGIN:DAYLIGHT
DTSTART:20230326T030000
TZOFFSETFROM:+0100
TZOFFSETTO:+0200
TZNAME:CEST
END:DAYLIGHT
BEGIN:STANDARD
DTSTART:20231029T020000
TZOFFSETFROM:+0200
TZOFFSETTO:+0100
TZNAME:CET
END:STANDARD
BEGIN:DAYLIGHT
DTSTART:20240331T030000
TZOFFSETFROM:+0100
TZOFFSETTO:+0200
TZNAME:CEST
END:DAYLIGHT
BEGIN:STANDARD
DTSTART:20241027T020000
TZOFFSETFROM:+0200
TZOFFSETTO:+0100
TZNAME:CET
END:STANDARD
END:VTIMEZONE
BEGIN:VEVENT
SUMMARY:Spätschicht – offenes Atelier
Description:Jetzt jeden vierten Freitag im Monat! Die JuKS öffnet ihre Tü
 ren für alle ab 16 – als kreativer Ort mit einer Fülle an Material und
  Inspiration. Gerade richtig\, um entspannt die Schul- oder Arbeitswoche a
 usklingen zu lassen. Hier kann man den Freiraum finden\, den man für die 
 Realisierung künstlerischer Arbeiten benötigt\, kein Workshop im eigentl
 ichen Sinn\, sondern Plattform für eigenständiges Arbeiten\, Austausch\,
  Tipps – wie es einem gefällt. Kommt vorbei!
LOCATION:JuKS Zentrale\, Kreativ-Atelier\, Friedrichstraße 33
DTSTART:20230630T183000
DTEND:20230630T210000
DTSTAMP:20260425T181308
END:VEVENT
END:VCALENDAR
 

