BEGIN:VCALENDAR
VERSION:2.0
PRODID:-//ZContent.net//ZapCalLib 1.0//EN
CALSCALE:GREGORIAN
METHOD:PUBLISH
BEGIN:VTIMEZONE
TZID:Europe/Berlin
BEGIN:DAYLIGHT
DTSTART:20230326T030000
TZOFFSETFROM:+0100
TZOFFSETTO:+0200
TZNAME:CEST
END:DAYLIGHT
BEGIN:STANDARD
DTSTART:20231029T020000
TZOFFSETFROM:+0200
TZOFFSETTO:+0100
TZNAME:CET
END:STANDARD
BEGIN:DAYLIGHT
DTSTART:20240331T030000
TZOFFSETFROM:+0100
TZOFFSETTO:+0200
TZNAME:CEST
END:DAYLIGHT
BEGIN:STANDARD
DTSTART:20241027T020000
TZOFFSETFROM:+0200
TZOFFSETTO:+0100
TZNAME:CET
END:STANDARD
BEGIN:DAYLIGHT
DTSTART:20250330T030000
TZOFFSETFROM:+0100
TZOFFSETTO:+0200
TZNAME:CEST
END:DAYLIGHT
BEGIN:STANDARD
DTSTART:20251026T020000
TZOFFSETFROM:+0200
TZOFFSETTO:+0100
TZNAME:CET
END:STANDARD
END:VTIMEZONE
BEGIN:VEVENT
SUMMARY:Vogelhäuschen bauen – Eltern-Kind-Workshop
Description:Wir bauen Vogelhäuser aus Holz. Die Winterzeit ist Futterzeit 
 und auch die Vögel freuen sich über ein Dach über dem Kopf. Hier ist Ge
 schicklichkeit und Handwerk gefragt: Wer gerne sägt\, bohrt und schleift\
 , ist hier genau richtig. Mal sehen\, wann die ersten Vögel einziehen. Hi
 nweis: Gegebenenfalls werden in diesem Workshop unter fachkundiger Anleitu
 ng\, dem Alter und den Fähigkeiten des Kindes entsprechend\, Werkzeuge od
 er Geräte eingesetzt.
LOCATION:JuKS Zentrale\, Kreativ-Atelier\, Friedrichstraße 33
DTSTART:20241102T100000
DTEND:20241102T130000
DTSTAMP:20260422T101539
END:VEVENT
END:VCALENDAR
 

