BEGIN:VCALENDAR
VERSION:2.0
PRODID:-//ZContent.net//ZapCalLib 1.0//EN
CALSCALE:GREGORIAN
METHOD:PUBLISH
BEGIN:VTIMEZONE
TZID:Europe/Berlin
BEGIN:DAYLIGHT
DTSTART:20230326T030000
TZOFFSETFROM:+0100
TZOFFSETTO:+0200
TZNAME:CEST
END:DAYLIGHT
BEGIN:STANDARD
DTSTART:20231029T020000
TZOFFSETFROM:+0200
TZOFFSETTO:+0100
TZNAME:CET
END:STANDARD
BEGIN:DAYLIGHT
DTSTART:20240331T030000
TZOFFSETFROM:+0100
TZOFFSETTO:+0200
TZNAME:CEST
END:DAYLIGHT
BEGIN:STANDARD
DTSTART:20241027T020000
TZOFFSETFROM:+0200
TZOFFSETTO:+0100
TZNAME:CET
END:STANDARD
BEGIN:DAYLIGHT
DTSTART:20250330T030000
TZOFFSETFROM:+0100
TZOFFSETTO:+0200
TZNAME:CEST
END:DAYLIGHT
BEGIN:STANDARD
DTSTART:20251026T020000
TZOFFSETFROM:+0200
TZOFFSETTO:+0100
TZNAME:CET
END:STANDARD
END:VTIMEZONE
BEGIN:VEVENT
SUMMARY:Wir gehen ins FabLab
Description:Wie die erfahrenen Studierenden besuchen wir gemeinsam das FabL
 ab der Universität Erlangen-Nürnberg und arbeiten mit richtig großen Ma
 schinen\, wie zum Beispiel 3D-Drucker und Lasercutter – alles kein Probl
 em! Ihr könnt euch auch schon im Voraus überlegen\, was ihr drucken oder
  lasern wollt: Vielleicht Spielfiguren für ein selbst ausgedachtes Spiel\
 , ein eigenes Puzzle oder das Logo des Lieblingssportvereins? Es gibt kein
 e Grenzen!\nHinweis: Gegebenenfalls werden in diesem Kurs unter fachkundig
 er Anleitung\, dem Alter und den Fähigkeiten des Kindes entsprechend\, We
 rkzeuge oder Geräte eingesetzt.
LOCATION:FabLab - Technische Fakultät der FAU Erlangen-Nürnberg\, Erwin-R
 ommel-Straße 60
DTSTART:20241116T100000
DTEND:20241116T160000
DTSTAMP:20260421T153929
END:VEVENT
END:VCALENDAR
 

