BEGIN:VCALENDAR
VERSION:2.0
PRODID:-//ZContent.net//ZapCalLib 1.0//EN
CALSCALE:GREGORIAN
METHOD:PUBLISH
BEGIN:VTIMEZONE
TZID:Europe/Berlin
BEGIN:DAYLIGHT
DTSTART:20250330T030000
TZOFFSETFROM:+0100
TZOFFSETTO:+0200
TZNAME:CEST
END:DAYLIGHT
BEGIN:STANDARD
DTSTART:20251026T020000
TZOFFSETFROM:+0200
TZOFFSETTO:+0100
TZNAME:CET
END:STANDARD
BEGIN:DAYLIGHT
DTSTART:20260329T030000
TZOFFSETFROM:+0100
TZOFFSETTO:+0200
TZNAME:CEST
END:DAYLIGHT
BEGIN:STANDARD
DTSTART:20261025T020000
TZOFFSETFROM:+0200
TZOFFSETTO:+0100
TZNAME:CET
END:STANDARD
BEGIN:DAYLIGHT
DTSTART:20270328T030000
TZOFFSETFROM:+0100
TZOFFSETTO:+0200
TZNAME:CEST
END:DAYLIGHT
BEGIN:STANDARD
DTSTART:20271031T020000
TZOFFSETFROM:+0200
TZOFFSETTO:+0100
TZNAME:CET
END:STANDARD
END:VTIMEZONE
BEGIN:VEVENT
SUMMARY:Fundstück-Figuren
Description:Leere Schneckenhäuser\, interessant geformte Stöcke\, Blätte
 r\, Beeren\, Federn ... Überall in der Natur lässt sich fantastisches Ba
 umaterial finden! Nach einem Streifzug durch den Schlossgarten schaffen wi
 r aus euren gesammelten Schätzen mit Handbohrer und anderem Werkzeug einz
 igartige Figuren. Ein kleiner Fundstück-Fundus wird auch vor Ort für euc
 h bereitliegen.\nHinweis: Gegebenenfalls werden in diesem Kurs unter fachk
 undiger Anleitung\, dem Alter und den Fähigkeiten des Kindes entsprechend
 \, Werkzeuge oder Geräte eingesetzt.
LOCATION:kubic\, Atelier 3\, Raum K010\, Südliche Stadtmauerstraße 35
DTSTART:20260621T100000
DTEND:20260621T130000
DTSTAMP:20260425T150346
END:VEVENT
END:VCALENDAR
 

