BEGIN:VCALENDAR
VERSION:2.0
PRODID:-//ZContent.net//ZapCalLib 1.0//EN
CALSCALE:GREGORIAN
METHOD:PUBLISH
BEGIN:VTIMEZONE
TZID:Europe/Berlin
BEGIN:DAYLIGHT
DTSTART:20250330T030000
TZOFFSETFROM:+0100
TZOFFSETTO:+0200
TZNAME:CEST
END:DAYLIGHT
BEGIN:STANDARD
DTSTART:20251026T020000
TZOFFSETFROM:+0200
TZOFFSETTO:+0100
TZNAME:CET
END:STANDARD
BEGIN:DAYLIGHT
DTSTART:20260329T030000
TZOFFSETFROM:+0100
TZOFFSETTO:+0200
TZNAME:CEST
END:DAYLIGHT
BEGIN:STANDARD
DTSTART:20261025T020000
TZOFFSETFROM:+0200
TZOFFSETTO:+0100
TZNAME:CET
END:STANDARD
BEGIN:DAYLIGHT
DTSTART:20270328T030000
TZOFFSETFROM:+0100
TZOFFSETTO:+0200
TZNAME:CEST
END:DAYLIGHT
BEGIN:STANDARD
DTSTART:20271031T020000
TZOFFSETFROM:+0200
TZOFFSETTO:+0100
TZNAME:CET
END:STANDARD
END:VTIMEZONE
BEGIN:VTIMEZONE
TZID:Europe/Berlin
BEGIN:DAYLIGHT
DTSTART:20250330T030000
TZOFFSETFROM:+0100
TZOFFSETTO:+0200
TZNAME:CEST
END:DAYLIGHT
BEGIN:STANDARD
DTSTART:20251026T020000
TZOFFSETFROM:+0200
TZOFFSETTO:+0100
TZNAME:CET
END:STANDARD
BEGIN:DAYLIGHT
DTSTART:20260329T030000
TZOFFSETFROM:+0100
TZOFFSETTO:+0200
TZNAME:CEST
END:DAYLIGHT
BEGIN:STANDARD
DTSTART:20261025T020000
TZOFFSETFROM:+0200
TZOFFSETTO:+0100
TZNAME:CET
END:STANDARD
BEGIN:DAYLIGHT
DTSTART:20270328T030000
TZOFFSETFROM:+0100
TZOFFSETTO:+0200
TZNAME:CEST
END:DAYLIGHT
BEGIN:STANDARD
DTSTART:20271031T020000
TZOFFSETFROM:+0200
TZOFFSETTO:+0100
TZNAME:CET
END:STANDARD
END:VTIMEZONE
BEGIN:VTIMEZONE
TZID:Europe/Berlin
BEGIN:DAYLIGHT
DTSTART:20250330T030000
TZOFFSETFROM:+0100
TZOFFSETTO:+0200
TZNAME:CEST
END:DAYLIGHT
BEGIN:STANDARD
DTSTART:20251026T020000
TZOFFSETFROM:+0200
TZOFFSETTO:+0100
TZNAME:CET
END:STANDARD
BEGIN:DAYLIGHT
DTSTART:20260329T030000
TZOFFSETFROM:+0100
TZOFFSETTO:+0200
TZNAME:CEST
END:DAYLIGHT
BEGIN:STANDARD
DTSTART:20261025T020000
TZOFFSETFROM:+0200
TZOFFSETTO:+0100
TZNAME:CET
END:STANDARD
BEGIN:DAYLIGHT
DTSTART:20270328T030000
TZOFFSETFROM:+0100
TZOFFSETTO:+0200
TZNAME:CEST
END:DAYLIGHT
BEGIN:STANDARD
DTSTART:20271031T020000
TZOFFSETFROM:+0200
TZOFFSETTO:+0100
TZNAME:CET
END:STANDARD
END:VTIMEZONE
BEGIN:VTIMEZONE
TZID:Europe/Berlin
BEGIN:DAYLIGHT
DTSTART:20250330T030000
TZOFFSETFROM:+0100
TZOFFSETTO:+0200
TZNAME:CEST
END:DAYLIGHT
BEGIN:STANDARD
DTSTART:20251026T020000
TZOFFSETFROM:+0200
TZOFFSETTO:+0100
TZNAME:CET
END:STANDARD
BEGIN:DAYLIGHT
DTSTART:20260329T030000
TZOFFSETFROM:+0100
TZOFFSETTO:+0200
TZNAME:CEST
END:DAYLIGHT
BEGIN:STANDARD
DTSTART:20261025T020000
TZOFFSETFROM:+0200
TZOFFSETTO:+0100
TZNAME:CET
END:STANDARD
BEGIN:DAYLIGHT
DTSTART:20270328T030000
TZOFFSETFROM:+0100
TZOFFSETTO:+0200
TZNAME:CEST
END:DAYLIGHT
BEGIN:STANDARD
DTSTART:20271031T020000
TZOFFSETFROM:+0200
TZOFFSETTO:+0100
TZNAME:CET
END:STANDARD
END:VTIMEZONE
BEGIN:VEVENT
SUMMARY:Klecks! Das Kinderatelier
Description:Im Atelier „Klecks!“ können Kinder im Grundschulalter Erfa
 hrungen im Umgang mit unterschiedlichen Werkstoffen – wie zum Beispiel F
 arbe\, Gips\, Holz oder Modelliermasse – sammeln und ausbauen. Ihr werde
 t malen\, zeichnen\, kleben\, bauen\, formen und schneiden\, figürlich od
 er abstrakt\, ganz groß oder ganz klein. Die kreative Auseinandersetzung 
 mit ganz unterschiedlichen Materialien fördert die ästhetische Wahrnehmu
 ng und führt langfristig zur Stärkung der motorischen Fähigkeiten von A
 utonomie\, Teamfähigkeit\, Individualität und Kreativität.\n\nHinweis: 
 Gegebenenfalls werden in diesem Kurs unter fachkundiger Anleitung dem Alte
 r und den Fähigkeiten des Kindes entsprechend Werkzeuge oder Geräte eing
 esetzt.
LOCATION:kubic\, Atelier 1\, Raum 0007\, Südliche Stadtmauerstraße 35
DTSTART:20260615T163000
DTEND:20260615T180000
DTSTAMP:20260425T162005
END:VEVENT
BEGIN:VEVENT
SUMMARY:Klecks! Das Kinderatelier
Description:Im Atelier „Klecks!“ können Kinder im Grundschulalter Erfa
 hrungen im Umgang mit unterschiedlichen Werkstoffen – wie zum Beispiel F
 arbe\, Gips\, Holz oder Modelliermasse – sammeln und ausbauen. Ihr werde
 t malen\, zeichnen\, kleben\, bauen\, formen und schneiden\, figürlich od
 er abstrakt\, ganz groß oder ganz klein. Die kreative Auseinandersetzung 
 mit ganz unterschiedlichen Materialien fördert die ästhetische Wahrnehmu
 ng und führt langfristig zur Stärkung der motorischen Fähigkeiten von A
 utonomie\, Teamfähigkeit\, Individualität und Kreativität.\n\nHinweis: 
 Gegebenenfalls werden in diesem Kurs unter fachkundiger Anleitung dem Alte
 r und den Fähigkeiten des Kindes entsprechend Werkzeuge oder Geräte eing
 esetzt.
LOCATION:kubic\, Atelier 1\, Raum 0007\, Südliche Stadtmauerstraße 35
DTSTART:20260622T163000
DTEND:20260622T180000
DTSTAMP:20260425T162005
END:VEVENT
BEGIN:VEVENT
SUMMARY:Klecks! Das Kinderatelier
Description:Im Atelier „Klecks!“ können Kinder im Grundschulalter Erfa
 hrungen im Umgang mit unterschiedlichen Werkstoffen – wie zum Beispiel F
 arbe\, Gips\, Holz oder Modelliermasse – sammeln und ausbauen. Ihr werde
 t malen\, zeichnen\, kleben\, bauen\, formen und schneiden\, figürlich od
 er abstrakt\, ganz groß oder ganz klein. Die kreative Auseinandersetzung 
 mit ganz unterschiedlichen Materialien fördert die ästhetische Wahrnehmu
 ng und führt langfristig zur Stärkung der motorischen Fähigkeiten von A
 utonomie\, Teamfähigkeit\, Individualität und Kreativität.\n\nHinweis: 
 Gegebenenfalls werden in diesem Kurs unter fachkundiger Anleitung dem Alte
 r und den Fähigkeiten des Kindes entsprechend Werkzeuge oder Geräte eing
 esetzt.
LOCATION:kubic\, Atelier 1\, Raum 0007\, Südliche Stadtmauerstraße 35
DTSTART:20260629T163000
DTEND:20260629T180000
DTSTAMP:20260425T162005
END:VEVENT
BEGIN:VEVENT
SUMMARY:Klecks! Das Kinderatelier
Description:Im Atelier „Klecks!“ können Kinder im Grundschulalter Erfa
 hrungen im Umgang mit unterschiedlichen Werkstoffen – wie zum Beispiel F
 arbe\, Gips\, Holz oder Modelliermasse – sammeln und ausbauen. Ihr werde
 t malen\, zeichnen\, kleben\, bauen\, formen und schneiden\, figürlich od
 er abstrakt\, ganz groß oder ganz klein. Die kreative Auseinandersetzung 
 mit ganz unterschiedlichen Materialien fördert die ästhetische Wahrnehmu
 ng und führt langfristig zur Stärkung der motorischen Fähigkeiten von A
 utonomie\, Teamfähigkeit\, Individualität und Kreativität.\n\nHinweis: 
 Gegebenenfalls werden in diesem Kurs unter fachkundiger Anleitung dem Alte
 r und den Fähigkeiten des Kindes entsprechend Werkzeuge oder Geräte eing
 esetzt.
LOCATION:kubic\, Atelier 1\, Raum 0007\, Südliche Stadtmauerstraße 35
DTSTART:20260706T163000
DTEND:20260706T180000
DTSTAMP:20260425T162005
END:VEVENT
END:VCALENDAR
 

