BEGIN:VCALENDAR
VERSION:2.0
PRODID:-//ZContent.net//ZapCalLib 1.0//EN
CALSCALE:GREGORIAN
METHOD:PUBLISH
BEGIN:VTIMEZONE
TZID:Europe/Berlin
BEGIN:DAYLIGHT
DTSTART:20250330T030000
TZOFFSETFROM:+0100
TZOFFSETTO:+0200
TZNAME:CEST
END:DAYLIGHT
BEGIN:STANDARD
DTSTART:20251026T020000
TZOFFSETFROM:+0200
TZOFFSETTO:+0100
TZNAME:CET
END:STANDARD
BEGIN:DAYLIGHT
DTSTART:20260329T030000
TZOFFSETFROM:+0100
TZOFFSETTO:+0200
TZNAME:CEST
END:DAYLIGHT
BEGIN:STANDARD
DTSTART:20261025T020000
TZOFFSETFROM:+0200
TZOFFSETTO:+0100
TZNAME:CET
END:STANDARD
BEGIN:DAYLIGHT
DTSTART:20270328T030000
TZOFFSETFROM:+0100
TZOFFSETTO:+0200
TZNAME:CEST
END:DAYLIGHT
BEGIN:STANDARD
DTSTART:20271031T020000
TZOFFSETFROM:+0200
TZOFFSETTO:+0100
TZNAME:CET
END:STANDARD
END:VTIMEZONE
BEGIN:VTIMEZONE
TZID:Europe/Berlin
BEGIN:DAYLIGHT
DTSTART:20250330T030000
TZOFFSETFROM:+0100
TZOFFSETTO:+0200
TZNAME:CEST
END:DAYLIGHT
BEGIN:STANDARD
DTSTART:20251026T020000
TZOFFSETFROM:+0200
TZOFFSETTO:+0100
TZNAME:CET
END:STANDARD
BEGIN:DAYLIGHT
DTSTART:20260329T030000
TZOFFSETFROM:+0100
TZOFFSETTO:+0200
TZNAME:CEST
END:DAYLIGHT
BEGIN:STANDARD
DTSTART:20261025T020000
TZOFFSETFROM:+0200
TZOFFSETTO:+0100
TZNAME:CET
END:STANDARD
BEGIN:DAYLIGHT
DTSTART:20270328T030000
TZOFFSETFROM:+0100
TZOFFSETTO:+0200
TZNAME:CEST
END:DAYLIGHT
BEGIN:STANDARD
DTSTART:20271031T020000
TZOFFSETFROM:+0200
TZOFFSETTO:+0100
TZNAME:CET
END:STANDARD
END:VTIMEZONE
BEGIN:VTIMEZONE
TZID:Europe/Berlin
BEGIN:DAYLIGHT
DTSTART:20250330T030000
TZOFFSETFROM:+0100
TZOFFSETTO:+0200
TZNAME:CEST
END:DAYLIGHT
BEGIN:STANDARD
DTSTART:20251026T020000
TZOFFSETFROM:+0200
TZOFFSETTO:+0100
TZNAME:CET
END:STANDARD
BEGIN:DAYLIGHT
DTSTART:20260329T030000
TZOFFSETFROM:+0100
TZOFFSETTO:+0200
TZNAME:CEST
END:DAYLIGHT
BEGIN:STANDARD
DTSTART:20261025T020000
TZOFFSETFROM:+0200
TZOFFSETTO:+0100
TZNAME:CET
END:STANDARD
BEGIN:DAYLIGHT
DTSTART:20270328T030000
TZOFFSETFROM:+0100
TZOFFSETTO:+0200
TZNAME:CEST
END:DAYLIGHT
BEGIN:STANDARD
DTSTART:20271031T020000
TZOFFSETFROM:+0200
TZOFFSETTO:+0100
TZNAME:CET
END:STANDARD
END:VTIMEZONE
BEGIN:VEVENT
SUMMARY:Kritzeln, schmieren, matschen – Malen für die Kleinsten
Description:Schon die Kleinsten haben viel Freude beim Erleben und Entdecke
 n verschiedenster Materialien. Dabei erschaffen sie ganz ohne Anstrengung 
 und Zwang die besten Kunstwerke. Strahlende Farben laden hier alle ein\, g
 emeinsam\, frei und voller Lust\, Spuren auf dem Papier zu hinterlassen.
LOCATION:kubic\, Atelier 2\, Raum 0013\, Südliche Stadtmauerstraße 35
DTSTART:20260504T143000
DTEND:20260504T153000
DTSTAMP:20260425T151106
END:VEVENT
BEGIN:VEVENT
SUMMARY:Kritzeln, schmieren, matschen – Malen für die Kleinsten
Description:Schon die Kleinsten haben viel Freude beim Erleben und Entdecke
 n verschiedenster Materialien. Dabei erschaffen sie ganz ohne Anstrengung 
 und Zwang die besten Kunstwerke. Strahlende Farben laden hier alle ein\, g
 emeinsam\, frei und voller Lust\, Spuren auf dem Papier zu hinterlassen.
LOCATION:kubic\, Atelier 2\, Raum 0013\, Südliche Stadtmauerstraße 35
DTSTART:20260511T143000
DTEND:20260511T153000
DTSTAMP:20260425T151106
END:VEVENT
BEGIN:VEVENT
SUMMARY:Kritzeln, schmieren, matschen – Malen für die Kleinsten
Description:Schon die Kleinsten haben viel Freude beim Erleben und Entdecke
 n verschiedenster Materialien. Dabei erschaffen sie ganz ohne Anstrengung 
 und Zwang die besten Kunstwerke. Strahlende Farben laden hier alle ein\, g
 emeinsam\, frei und voller Lust\, Spuren auf dem Papier zu hinterlassen.
LOCATION:kubic\, Atelier 2\, Raum 0013\, Südliche Stadtmauerstraße 35
DTSTART:20260518T143000
DTEND:20260518T153000
DTSTAMP:20260425T151106
END:VEVENT
END:VCALENDAR
 

