BEGIN:VCALENDAR
VERSION:2.0
PRODID:-//ZContent.net//ZapCalLib 1.0//EN
CALSCALE:GREGORIAN
METHOD:PUBLISH
BEGIN:VTIMEZONE
TZID:Europe/Berlin
BEGIN:DAYLIGHT
DTSTART:20200329T030000
TZOFFSETFROM:+0100
TZOFFSETTO:+0200
TZNAME:CEST
END:DAYLIGHT
BEGIN:STANDARD
DTSTART:20201025T020000
TZOFFSETFROM:+0200
TZOFFSETTO:+0100
TZNAME:CET
END:STANDARD
BEGIN:DAYLIGHT
DTSTART:20210328T030000
TZOFFSETFROM:+0100
TZOFFSETTO:+0200
TZNAME:CEST
END:DAYLIGHT
BEGIN:STANDARD
DTSTART:20211031T020000
TZOFFSETFROM:+0200
TZOFFSETTO:+0100
TZNAME:CET
END:STANDARD
BEGIN:DAYLIGHT
DTSTART:20220327T030000
TZOFFSETFROM:+0100
TZOFFSETTO:+0200
TZNAME:CEST
END:DAYLIGHT
BEGIN:STANDARD
DTSTART:20221030T020000
TZOFFSETFROM:+0200
TZOFFSETTO:+0100
TZNAME:CET
END:STANDARD
END:VTIMEZONE
BEGIN:VTIMEZONE
TZID:Europe/Berlin
BEGIN:DAYLIGHT
DTSTART:20200329T030000
TZOFFSETFROM:+0100
TZOFFSETTO:+0200
TZNAME:CEST
END:DAYLIGHT
BEGIN:STANDARD
DTSTART:20201025T020000
TZOFFSETFROM:+0200
TZOFFSETTO:+0100
TZNAME:CET
END:STANDARD
BEGIN:DAYLIGHT
DTSTART:20210328T030000
TZOFFSETFROM:+0100
TZOFFSETTO:+0200
TZNAME:CEST
END:DAYLIGHT
BEGIN:STANDARD
DTSTART:20211031T020000
TZOFFSETFROM:+0200
TZOFFSETTO:+0100
TZNAME:CET
END:STANDARD
BEGIN:DAYLIGHT
DTSTART:20220327T030000
TZOFFSETFROM:+0100
TZOFFSETTO:+0200
TZNAME:CEST
END:DAYLIGHT
BEGIN:STANDARD
DTSTART:20221030T020000
TZOFFSETFROM:+0200
TZOFFSETTO:+0100
TZNAME:CET
END:STANDARD
END:VTIMEZONE
BEGIN:VEVENT
SUMMARY:Joseph Beuys - einem Künstler auf der Spur
Description:Wir tauchen ein in die Gedankenwelt des Joseph Beuys – ganz n
 ach seinem Motto „jeder Mensch ist ein Künstler“ und experimentieren 
 mit einfachen Zeichnungen\, Objekten und Objektveränderungen.
LOCATION:Gemeindezentrum Frauenaurach\, Kreativraum der JuKS im Untergescho
 ss\, Gaisbühlstraße 4
DTSTART:20210423T150000
DTEND:20210423T180000
DTSTAMP:20260424T085415
END:VEVENT
BEGIN:VEVENT
SUMMARY:Joseph Beuys - einem Künstler auf der Spur
Description:Wir tauchen ein in die Gedankenwelt des Joseph Beuys – ganz n
 ach seinem Motto „jeder Mensch ist ein Künstler“ und experimentieren 
 mit einfachen Zeichnungen\, Objekten und Objektveränderungen.
LOCATION:Gemeindezentrum Frauenaurach\, Kreativraum der JuKS im Untergescho
 ss\, Gaisbühlstraße 4
DTSTART:20210424T100000
DTEND:20210424T130000
DTSTAMP:20260424T085415
END:VEVENT
END:VCALENDAR
 

